BEGIN:VCALENDAR
VERSION:2.0
PRODID:-//norwood-payneham-st-peters//NONSGML events.npsp.sa.gov.au//EN
METHOD:PUBLISH
CALSCALE:GREGORIAN
BEGIN:VEVENT
UID:event3466@events.npsp.sa.gov.au
DTSTART:20260627T100000Z
DTEND:20260627T133000Z
SUMMARY:Simon Brodkin - Live in Adelaide
STATUS:CONFIRMED
SEQUENCE:0
TRANSP:OPAQUE
DTSTAMP:20260420T232616Z
LOCATION:Norwood Concert Hall
URL:https://www.norwoodconcerthall.com.au/events/3466_simon_brodkin__live_in_adelaide
END:VEVENT
END:VCALENDAR
